BEGIN:VCALENDAR
VERSION:2.0
PRODID:-//ConVerve GmbH//B2BMatch//EN
METHOD:PUBLISH
BEGIN:VEVENT
DTSTART:20241112T050000Z
DTEND:20241114T210000Z
SUMMARY:Visit Iceland Workshop 2024
LOCATION:Lisbon / Madrid / Barcelona
DESCRIPTION:
UID:0000001
DTSTAMP:20180215T145139Z
END:VEVENT
END:VCALENDAR
